BEGIN:VCALENDAR
VERSION:2.0
PRODID:-//wp-events-plugin.com//7.2.3.1//EN
TZID:America/Los_Angeles
X-WR-TIMEZONE:America/Los_Angeles
BEGIN:VEVENT
UID:3@guadalupehopesociety.org
DTSTART;TZID=America/Los_Angeles:20190510T113000
DTEND;TZID=America/Los_Angeles:20190510T130000
DTSTAMP:20190430T211035Z
URL:https://guadalupehopesociety.org/events/rosary-luncheon/
SUMMARY:Rosary Luncheon
DESCRIPTION:Fr. Mark Arnzen - Marriage faith talk\nlunch provided.\n\nRSVP 
 408 447-5433 or ghswomenscenter.com
LOCATION:Santa Maria Hall\, 2211 Shamrock Dr\, Campbell\, CA\, 95008\, Unit
 ed States
X-APPLE-STRUCTURED-LOCATION;VALUE=URI;X-ADDRESS=2211 Shamrock Dr\, Campbell
 \, CA\, 95008\, United States;X-APPLE-RADIUS=100;X-TITLE=Santa Maria Hall:
 geo:0,0
END:VEVENT
BEGIN:VEVENT
UID:4@guadalupehopesociety.org
DTSTART;TZID=America/Los_Angeles:20190614T113000
DTEND;TZID=America/Los_Angeles:20190614T130000
DTSTAMP:20190430T213551Z
URL:https://guadalupehopesociety.org/events/rosary-luncheon-2/
SUMMARY:Rosary Luncheon
DESCRIPTION:Fr. Eric Piczon - The Church as Bride of Christ talk\n\nlunch p
 rovided. rsvp 408 447-5433 or ghswomenscenter.com
LOCATION:Santa Maria Hall\, 2211 Shamrock Dr\, Campbell\, CA\, 95008\, Unit
 ed States
X-APPLE-STRUCTURED-LOCATION;VALUE=URI;X-ADDRESS=2211 Shamrock Dr\, Campbell
 \, CA\, 95008\, United States;X-APPLE-RADIUS=100;X-TITLE=Santa Maria Hall:
 geo:0,0
END:VEVENT
BEGIN:VEVENT
UID:5@guadalupehopesociety.org
DTSTART;TZID=America/Los_Angeles:20190712T113000
DTEND;TZID=America/Los_Angeles:20190712T130000
DTSTAMP:20190627T192138Z
URL:https://guadalupehopesociety.org/events/rosary-luncheon-3/
SUMMARY:Rosary Luncheon
DESCRIPTION:Fr. Rick Rodoni\n\nCatholic Spirituality talk - lunch provided\
 n\nRSVP\n\nhttps://rosarylunchJuly12.eventbrite.com\n\nor (408) 447-5433\n
 \nor ghswomenscenter.com\n\n
LOCATION:Santa Maria Hall\, 2211 Shamrock Dr\, Campbell\, CA\, 95008\, Unit
 ed States
X-APPLE-STRUCTURED-LOCATION;VALUE=URI;X-ADDRESS=2211 Shamrock Dr\, Campbell
 \, CA\, 95008\, United States;X-APPLE-RADIUS=100;X-TITLE=Santa Maria Hall:
 geo:0,0
END:VEVENT
BEGIN:VEVENT
UID:6@guadalupehopesociety.org
DTSTART;TZID=America/Los_Angeles:20190809T113000
DTEND;TZID=America/Los_Angeles:20190809T130000
DTSTAMP:20190627T192230Z
URL:https://guadalupehopesociety.org/events/rosary-luncheon-4/
SUMMARY:Rosary Luncheon
DESCRIPTION:Fr. Rudy Ruiz talk on the Eucharist\n\nLunch provided\n\nRSVP 
  at https://rosarylunchAugust9.eventbrite.com\n\nor (408) 447-5433\n\nor g
 hswomenscenter.com\n\n
LOCATION:Santa Maria Hall\, 2211 Shamrock Dr\, Campbell\, CA\, 95008\, Unit
 ed States
X-APPLE-STRUCTURED-LOCATION;VALUE=URI;X-ADDRESS=2211 Shamrock Dr\, Campbell
 \, CA\, 95008\, United States;X-APPLE-RADIUS=100;X-TITLE=Santa Maria Hall:
 geo:0,0
END:VEVENT
BEGIN:VEVENT
UID:7@guadalupehopesociety.org
DTSTART;TZID=America/Los_Angeles:20190913T113000
DTEND;TZID=America/Los_Angeles:20190913T130000
DTSTAMP:20190627T192300Z
URL:https://guadalupehopesociety.org/events/rosary-luncheon-5/
SUMMARY:Rosary Luncheon
DESCRIPTION:Fr. Gary Thomas talk on Exorcism.\n\nLunch provided\n\nRSVP at 
 https://rosarylunchSeptember13.eventbrite.com\n\nor (408) 447-5433\n\nor g
 hswomenscenter.com\n\n
LOCATION:Santa Maria Hall\, 2211 Shamrock Dr\, Campbell\, CA\, 95008\, Unit
 ed States
X-APPLE-STRUCTURED-LOCATION;VALUE=URI;X-ADDRESS=2211 Shamrock Dr\, Campbell
 \, CA\, 95008\, United States;X-APPLE-RADIUS=100;X-TITLE=Santa Maria Hall:
 geo:0,0
END:VEVENT
BEGIN:VEVENT
UID:8@guadalupehopesociety.org
DTSTART;TZID=America/Los_Angeles:20191011T113000
DTEND;TZID=America/Los_Angeles:20191011T130000
DTSTAMP:20190914T220922Z
URL:https://guadalupehopesociety.org/events/rosary-luncheon-6/
SUMMARY:Rosary Luncheon
DESCRIPTION:Fr. Andrew Nguyen talk on Confession\n\nLunch provided\n\nRSVP 
 at https://rosarylunchOctober11.eventbrite.com\n\nor (408) 447-5433\n\nor 
 ghswomenscenter.com\n\n
LOCATION:Santa Maria Hall\, 2211 Shamrock Dr\, Campbell\, CA\, 95008\, Unit
 ed States
X-APPLE-STRUCTURED-LOCATION;VALUE=URI;X-ADDRESS=2211 Shamrock Dr\, Campbell
 \, CA\, 95008\, United States;X-APPLE-RADIUS=100;X-TITLE=Santa Maria Hall:
 geo:0,0
END:VEVENT
BEGIN:VEVENT
UID:10@guadalupehopesociety.org
DTSTART;TZID=America/Los_Angeles:20191012T083000
DTEND;TZID=America/Los_Angeles:20191012T160000
DTSTAMP:20190918T020643Z
URL:https://guadalupehopesociety.org/events/fr-stout-memorial-bocce-ball-t
 ournament/
SUMMARY:Bocce Ball Tournament Fr. Stout Memorial
DESCRIPTION:Fr. Stout Memorial Bocce Ball Tournament Hosted by St. Frances 
 Cabrini's Men's Club at the St. Frances Cabrini Bocce Ball Courts\n\n$300.
 00 Team Registration &amp\; check in at 8:30 am (4 Team players)\n\nBreakf
 ast breads\, juice &amp\; coffee\n\nPlay from 9:00 am to 4:00 pm.\n\nLunch
  at 11:30 included in your registration fee: Sausages\, Hamburgers\, Chips
 \, Salad\, Beer\, Wine\, Soda\, Water\n\nFirst Place Team will be added to
  the K of C Perpetual Trophy\n\nAwards for 1st\, 2nd and 3rd place teams\n
 \nTournament benefits GHS Women's Center.\n\nTo sign up please Contact Osc
 ar Martinez at (408) 447-5433 or chair@guadalupehopesociety.org
LOCATION:St. Frances Cabrini Church\, 15333 Woodard Rd\, San Jose\, CA\, 95
 124\, United States
X-APPLE-STRUCTURED-LOCATION;VALUE=URI;X-ADDRESS=15333 Woodard Rd\, San Jose
 \, CA\, 95124\, United States;X-APPLE-RADIUS=100;X-TITLE=St. Frances Cabri
 ni Church:geo:0,0
END:VEVENT
BEGIN:VEVENT
UID:11@guadalupehopesociety.org
DTSTART;TZID=America/Los_Angeles:20191019T120000
DTEND;TZID=America/Los_Angeles:20191019T210000
DTSTAMP:20190914T220538Z
URL:https://guadalupehopesociety.org/events/oktoberfest/
SUMMARY:Oktoberfest
DESCRIPTION:Beer tasting\, German food and music hosted by the Knights of C
 olumbus Council #3474 at Santa Maria Hall.  More information to follow so
 on.\n\n&nbsp\;
LOCATION:Santa Maria Hall\, 2211 Shamrock Dr\, Campbell\, CA\, 95008\, Unit
 ed States
X-APPLE-STRUCTURED-LOCATION;VALUE=URI;X-ADDRESS=2211 Shamrock Dr\, Campbell
 \, CA\, 95008\, United States;X-APPLE-RADIUS=100;X-TITLE=Santa Maria Hall:
 geo:0,0
END:VEVENT
BEGIN:VEVENT
UID:9@guadalupehopesociety.org
DTSTART;TZID=America/Los_Angeles:20191108T113000
DTEND;TZID=America/Los_Angeles:20191108T130000
DTSTAMP:20190914T220958Z
URL:https://guadalupehopesociety.org/events/rosary-luncheon-7/
SUMMARY:Rosary Luncheon
DESCRIPTION:Fr. Mark Amzen talk "The Holy Family as a model for our Faith a
 nd Family"\nLunch provided\nRSVP at https://rosarylunchNovember8.eventbrit
 e.com\nor (408) 447-5433\nor ghswomenscenter.com\n\n
LOCATION:Santa Maria Hall\, 2211 Shamrock Dr\, Campbell\, CA\, 95008\, Unit
 ed States
X-APPLE-STRUCTURED-LOCATION;VALUE=URI;X-ADDRESS=2211 Shamrock Dr\, Campbell
 \, CA\, 95008\, United States;X-APPLE-RADIUS=100;X-TITLE=Santa Maria Hall:
 geo:0,0
END:VEVENT
BEGIN:VEVENT
UID:14@guadalupehopesociety.org
DTSTART;TZID=America/Los_Angeles:20191116T173000
DTEND;TZID=America/Los_Angeles:20191116T210000
DTSTAMP:20191004T022328Z
URL:https://guadalupehopesociety.org/events/save-the-date-patrick-madrid-k
 eynote-speaker/
SUMMARY:Bar B Q Dinner - Patrick Madrid keynote speaker
DESCRIPTION:All Lives Are Worth Saving\n\nAnnual Bar B Q Dinner Fundraiser\
 n\nClick on the DONATE button to register\n\n&nbsp\;
LOCATION:Our Lady of Peace Family Learning Gym\, 2800 Mission College Blvd\
 , Santa Clara\, CA\, 95054\, United States
X-APPLE-STRUCTURED-LOCATION;VALUE=URI;X-ADDRESS=2800 Mission College Blvd\,
  Santa Clara\, CA\, 95054\, United States;X-APPLE-RADIUS=100;X-TITLE=Our L
 ady of Peace Family Learning Gym:geo:0,0
END:VEVENT
BEGIN:VEVENT
UID:12@guadalupehopesociety.org
DTSTART;TZID=America/Los_Angeles:20191213T113000
DTEND;TZID=America/Los_Angeles:20191213T133000
DTSTAMP:20190914T221021Z
URL:https://guadalupehopesociety.org/events/rosary-luncheon-8/
SUMMARY:Rosary Luncheon
DESCRIPTION:Fr. Michael Hendrickson talk on "Our Lady of Guadalupe"\n\nLunc
 h provided\nRSVP at https://rosarylunchDecember13.eventbrite.com\nor (408)
  447-5433\nor ghswomenscenter.com\n\n
LOCATION:Santa Maria Hall\, 2211 Shamrock Dr\, Campbell\, CA\, 95008\, Unit
 ed States
X-APPLE-STRUCTURED-LOCATION;VALUE=URI;X-ADDRESS=2211 Shamrock Dr\, Campbell
 \, CA\, 95008\, United States;X-APPLE-RADIUS=100;X-TITLE=Santa Maria Hall:
 geo:0,0
END:VEVENT
BEGIN:VEVENT
UID:16@guadalupehopesociety.org
DTSTART;TZID=America/Los_Angeles:20220909T113000
DTEND;TZID=America/Los_Angeles:20220909T130000
DTSTAMP:20220914T063635Z
URL:https://guadalupehopesociety.org/events/rosary-faith-talk-luncheon-sep
 tember-9-2022/
SUMMARY:Rosary & Faith Talk Luncheon September 9\, 2022
DESCRIPTION:Fr. Daniel Urcia will lead the Rosary for the unborn and give a
  talk on "Mary's Magnificat".\n\nRegister at eventbrite https://rosarysept
 ember922.eventbrite.com\n\nCall or email to reserve your seat at the Santa
  Maria Hall.\n\n408-447-5433\; admin@ghswomenscenter.com
END:VEVENT
BEGIN:VEVENT
UID:20@guadalupehopesociety.org
DTSTART;TZID=America/Los_Angeles:20220910T083000
DTEND;TZID=America/Los_Angeles:20220910T160000
DTSTAMP:20220914T065129Z
URL:https://guadalupehopesociety.org/events/fr-stout-annual-bocce-ball-tou
 rnament/
SUMMARY:Fr. Stout Annual Bocce Ball Tournament
DESCRIPTION:Come join us Saturday September 10\, 2022 for a day of fun in t
 he sun\, playing Bocce Ball raising funds for the Guadalupe Hope Society a
 nd the work they do helping Mothers and babies both in the womb and after 
 delivery.\n\nemail: admin@ghswomenscenter.com for more information
END:VEVENT
BEGIN:VEVENT
UID:17@guadalupehopesociety.org
DTSTART;TZID=America/Los_Angeles:20221021T113000
DTEND;TZID=America/Los_Angeles:20221021T130000
DTSTAMP:20220914T064112Z
URL:https://guadalupehopesociety.org/events/rosary-faith-talk-luncheon-oct
 ober-21-2022/
SUMMARY:Rosary & Faith Talk Luncheon October 21\, 2022
DESCRIPTION:Bishop Oscar Cantu will lead the Rosary for the unborn and then
  share a faith talk with us.\n\nRegister on eventbrite at https://rosaryoc
 tober2122.eventbrite.com\n\nPlease call or email to reserve your seat at t
 he Santa Maria Hall.\n\n(408)447-5433\; admin@ghswomenscenter.com\n\nThis 
 event will be in person and streamed online. Register for the online link.
END:VEVENT
BEGIN:VEVENT
UID:15@guadalupehopesociety.org
DTSTART;TZID=America/Los_Angeles:20221029T173000
DTEND;TZID=America/Los_Angeles:20221029T210000
DTSTAMP:20220930T224328Z
URL:https://guadalupehopesociety.org/events/ghs-2022-fundraiser/
SUMMARY:GHS 2022 Dinner and Auction
DESCRIPTION:DINNER &amp\; SILENT AUCTION\n\nDate: October 29\, 2022\n\nTime
 : 5:30-9:00PM\n\nPlace: 15333 Woodard Road\, San Jose\, CA 95124\n\nKeynot
 e Speaker: Dr. Anthony Lilles\n\nTickets $50 - Open Seating\n\nSponsor a t
 able of ten $500 - Reserved Seating\n\nSponsor a Priest or Religious $50\n
 \n&nbsp\;
LOCATION:Saint Frances Cabrini Essig Hall\, 15333 Woodard Rd\, San Jose\, C
 A\, 95124\, United States
X-APPLE-STRUCTURED-LOCATION;VALUE=URI;X-ADDRESS=15333 Woodard Rd\, San Jose
 \, CA\, 95124\, United States;X-APPLE-RADIUS=100;X-TITLE=Saint Frances Cab
 rini Essig Hall:geo:0,0
END:VEVENT
BEGIN:VEVENT
UID:18@guadalupehopesociety.org
DTSTART;TZID=America/Los_Angeles:20221118T113000
DTEND;TZID=America/Los_Angeles:20221118T130000
DTSTAMP:20220914T064454Z
URL:https://guadalupehopesociety.org/events/rosary-faith-talk-luncheon-nov
 ember-18-2022/
SUMMARY:Rosary & Faith Talk Luncheon November 18\, 2022
DESCRIPTION:Fr. Matthias Lambrecht\, O.C.D. with lead the Rosary for the Un
 born and then share a faith talk with us.\n\nPlease register on eventbrite
  at https://rosarynovember1822.eventbrite.com\n\nCall or email to reserve 
 your seat at the Santa Maria Hall.\n\n408-447-5433\; admin@ghswomenscenter
 .com\n\nThis event will be in-person and live-streamed. Register for infor
 mation.
END:VEVENT
BEGIN:VEVENT
UID:19@guadalupehopesociety.org
DTSTART;TZID=America/Los_Angeles:20221209T113000
DTEND;TZID=America/Los_Angeles:20221209T130000
DTSTAMP:20220914T064733Z
URL:https://guadalupehopesociety.org/events/rosary-faith-talk-luncheon-dec
 ember-9-2022/
SUMMARY:Rosary & Faith Talk Luncheon December 9\, 2022
DESCRIPTION:Fr. Noel Sanvicente will lead the Rosary for the Unborn and the
 n share a faith talk.\n\nRegister on eventbrite at https://rosarydecember9
 22.eventbrite.com\n\nPlease call or email to reserve your seat at the Sant
 a Maria Hall.\n\n408-447-5433\; admin@ghswomenscenter.com
END:VEVENT
BEGIN:VTIMEZONE
TZID:America/Los_Angeles
X-LIC-LOCATION:America/Los_Angeles
BEGIN:DAYLIGHT
DTSTART:20190310T030000
TZOFFSETFROM:-0800
TZOFFSETTO:-0700
TZNAME:PDT
END:DAYLIGHT
BEGIN:STANDARD
DTSTART:20191103T010000
TZOFFSETFROM:-0700
TZOFFSETTO:-0800
TZNAME:PST
END:STANDARD
BEGIN:DAYLIGHT
DTSTART:20200308T030000
TZOFFSETFROM:-0800
TZOFFSETTO:-0700
TZNAME:PDT
END:DAYLIGHT
BEGIN:STANDARD
DTSTART:20201101T010000
TZOFFSETFROM:-0700
TZOFFSETTO:-0800
TZNAME:PST
END:STANDARD
BEGIN:DAYLIGHT
DTSTART:20210314T030000
TZOFFSETFROM:-0800
TZOFFSETTO:-0700
TZNAME:PDT
END:DAYLIGHT
BEGIN:STANDARD
DTSTART:20211107T010000
TZOFFSETFROM:-0700
TZOFFSETTO:-0800
TZNAME:PST
END:STANDARD
BEGIN:DAYLIGHT
DTSTART:20220313T030000
TZOFFSETFROM:-0800
TZOFFSETTO:-0700
TZNAME:PDT
END:DAYLIGHT
BEGIN:STANDARD
DTSTART:20221106T010000
TZOFFSETFROM:-0700
TZOFFSETTO:-0800
TZNAME:PST
END:STANDARD
END:VTIMEZONE
END:VCALENDAR